BEGIN:VCALENDAR
VERSION:2.0
PRODID:-//ChamberMaster//Event Calendar 2.0//EN
METHOD:PUBLISH
X-PUBLISHED-TTL:P3D
REFRESH-INTERVAL:P3D
CALSCALE:GREGORIAN
BEGIN:VEVENT
DTSTART:20251220T150000Z
DTEND:20251220T170000Z
X-MICROSOFT-CDO-ALLDAYEVENT:FALSE
SUMMARY:Breakfast with Santa at Tattersall
DESCRIPTION:Join Santa and the Tattersall team for a breakfast buffet and Santa show and make sure you get your wish list into the big guy!\n\nDate: Saturday\, December 20th\n\n9am - Doors and Breakfast Buffet *Please arrive 20 minutes prior to show to ensure you get through the buffet line.\n\n10am - Santa Show (approximately 20-30 min.)\n\n10:30am - Pictures with Santa and other Holiday Crafts\n\nAdults & Kids 15 & under $33 (includes gratuity) | kids under 4- complimentary.\n\n*You will be prompted at checkout to add any children under 4 to your reservation.
X-ALT-DESC;FMTTYPE=text/html:<div>Join Santa and the Tattersall team for a breakfast buffet and Santa show and make sure you get your wish list into the big guy!</div>\n\n<div>Date: Saturday\, December 20th<br />\n9am - Doors and Breakfast Buffet *Please arrive 20 minutes prior to show to ensure you get through the buffet line.<br />\n10am - Santa Show (approximately 20-30 min.)<br />\n10:30am - Pictures with Santa and other Holiday Crafts</div>\n\n<div>Adults &amp\; Kids 15 &amp\; under $33 (includes gratuity) | kids under 4- complimentary.<br />\n*You will be prompted at checkout to add any children under 4 to your reservation.</div>\n
LOCATION:Tattersall Event Center 1777 Paulson Rd River Falls\, WI 54022
UID:e.2450.37263
SEQUENCE:3
DTSTAMP:20260420T185533Z
URL:https://members.hudsonwi.org/events/details/breakfast-with-santa-at-tattersall-12-20-2025-37263
END:VEVENT

END:VCALENDAR
