BEGIN:VCALENDAR
VERSION:2.0
PRODID:-//ChamberMaster//Event Calendar 2.0//EN
METHOD:PUBLISH
X-PUBLISHED-TTL:P3D
REFRESH-INTERVAL:P3D
CALSCALE:GREGORIAN
BEGIN:VEVENT
DTSTART:20251107T000000Z
DTEND:20251107T013000Z
X-MICROSOFT-CDO-ALLDAYEVENT:FALSE
SUMMARY:Booze & Books with Mary Logue & Pete Hautman
DESCRIPTION:Join us for Booze and Books\, the most laid-back book club in town no reading required! In partnership with local restaurant Black Rooster Bistro\, we bring together authors\, fun conversations\, and a themed cocktail crafted just for the event. Whether you're here to learn\, share\, or simply enjoy the atmosphere\, it's the perfect evening out for book lovers and cocktail enthusiasts alike.\n\n\n\nFor our last event of 2025 we are bringing back Mary Logue and her partner Pete Hautman to discuss their middle grade novels\, both releasing on 10/29/25. \n\n\n\nMary Logue's Dreki: My Icelandic Dragon is a beautiful middle-grade novel that perfectly illuminates the relationship between grandparent and grandchild. A gentle introduction to grief\, loss\, and the looming responsibilities of becoming a young adult. Plus\, it has dragons\, elfs\, and a tour of life in Iceland -- what more could a reader ask for. Highly recommend for all ages.\n\n\n\nPete Hautman's Answers to Dog is a heartfelt coming-of-age multiple point-of-view middle grade novel where half the story is told from the dog's perspective. Hautman's affinity and sense of place and love for the Minnesota landscape shines through every page. This book is a perfect read for boys\, parents\, and lovers of dogs. \nNew York Times-bestselling author Mary Logue has published more than thirty books\, including mystery novels\, poetry\, nonfiction\, and many books for children. Her awards include a Minnesota Book Award\, a Wisconsin Outstanding Achievement Award\, and an Edgar nomination. The first Brigid Reardon novel\, The Streel\, was a WILLA Literary Award finalist. She lives on the Mississippi with writer Pete Hautman.\n\n\n\nPete Hautman is the author of many books for young adults\, including the National Book Award winner Godless\, the Klaatu Diskos trilogy\, and Eden West. His middle-grade novels include The Rat Queen\, Otherwood\, winner of an Edgar Award\, and Slider\, which Booklist lauded for its "crystalline prose\, delectable detail\, rip-roaring humor\, and larger-than-life characters." Pete Hautman divides his time between Wisconsin and Minnesota.
X-ALT-DESC;FMTTYPE=text/html:<div>\n<div>\n<p>Join us for Booze and Books\, the most laid-back book club in town&mdash\;no reading required! In partnership with local restaurant Black Rooster Bistro\, we bring together authors\, fun conversations\, and a themed cocktail crafted just for the event. Whether you&#39\;re here to learn\, share\, or simply enjoy the atmosphere\, it&#39\;s the perfect evening out for book lovers and cocktail enthusiasts alike.<br />\n<br />\nFor our last event of 2025 we are bringing back Mary Logue and her partner Pete Hautman to discuss their middle grade novels\, both releasing on 10/29/25.&nbsp\;<br />\n<br />\nMary Logue&#39\;s&nbsp\;<a href="https://chapter2books.indielite.org/book/9780316345880"><em>Dreki: My Icelandic Dragon</em></a>&nbsp\;is a&nbsp\;beautiful middle-grade novel that perfectly illuminates the relationship between grandparent and grandchild. A gentle introduction to grief\, loss\, and the looming responsibilities of becoming a young adult. Plus\, it has dragons\, elfs\, and a tour of life in Iceland -- what more could a reader ask for. Highly recommend for all ages.<br />\n<br />\nPete Hautman&#39\;s&nbsp\;<a href="https://chapter2books.indielite.org/book/9781536244465"><em>Answers to Dog</em>&nbsp\;</a>is a heartfelt coming-of-age multiple point-of-view middle grade novel where half the story is told from the dog&#39\;s perspective. Hautman&#39\;s affinity and sense of place and love for the Minnesota landscape shines through every page. This book is a perfect read for boys\, parents\, and lovers of dogs.&nbsp\;</p>\nNew York Times-bestselling author <strong>Mary Logue</strong> has published more than thirty books\, including mystery novels\, poetry\, nonfiction\, and many books for children. Her awards include a Minnesota Book Award\, a Wisconsin Outstanding Achievement Award\, and an Edgar nomination. The first Brigid Reardon novel\, <a href="https://chapter2books.indielite.org/book/9781517908607"><em>The Streel</em></a>\, was a WILLA Literary Award finalist. She lives on the Mississippi with writer Pete Hautman.<br />\n<br />\n<strong>Pete Hautman</strong> is the author of many books for young adults\, including the National Book Award winner <em>Godless</em>\, the Klaatu Diskos trilogy\, and <em>Eden West</em>. His middle-grade novels include <em>The Rat Queen</em>\, <em>Otherwood</em>\, winner of an Edgar Award\, and <em>Slider</em>\, which <em>Booklist </em>lauded for its &ldquo\;crystalline prose\, delectable detail\, rip-roaring humor\, and larger-than-life characters.&rdquo\; Pete Hautman divides his time between Wisconsin and Minnesota.</div>\n</div>\n
LOCATION:516 2nd Street Hudson WI 54016
UID:e.2450.35576
SEQUENCE:3
DTSTAMP:20260420T204002Z
URL:https://members.hudsonwi.org/events/details/booze-books-with-mary-logue-35576
END:VEVENT

END:VCALENDAR
