BEGIN:VCALENDAR
VERSION:2.0
PRODID:-//ChamberMaster//Event Calendar 2.0//EN
METHOD:PUBLISH
X-PUBLISHED-TTL:P3D
REFRESH-INTERVAL:P3D
CALSCALE:GREGORIAN
BEGIN:VEVENT
DTSTART:20251104T130000Z
DTEND:20251104T150000Z
X-MICROSOFT-CDO-ALLDAYEVENT:FALSE
SUMMARY:Book Release Shindig -- The Fault Between Us by Stephanie Landsem
DESCRIPTION:Let's welcome author Stephanie Landsem to Hudson in style! \n\n\n\nChapter2 Books is partnering with Lucky Guys Distillary for a book release party for Landsem's newest historical novel\, The Fault Between Us. \n\n\n\nIn this gripping new work of historical fiction from the award-winning author of Code Name Edelweiss\, three sisters fight for their lives and for each other amid the danger of a cataclysmic earthquake that rips Yellowstone National Park asunder.\n\n\n\n1959. Claire\, Bridget\, and Frannie Reilly were once as close as sisters can be. Though their mother left when they were young\, their loving father raised them with everything they could want. But when Claire marries a handsome cowboy and settles out west\, a thousand miles away\, the sisters' strong bond begins to unravel.\n\n\n\nClaire struggles to adjust to a life utterly unlike her upbringing\, and surprising revelations about her husband's past make her wonder if she's made a terrible mistake. With a new baby and a shoestring budget\, the last thing she needs is her family's interference.\n\n\n\nSensing something isn't right\, Bridget takes a temporary nursing assignment in Yellowstone\, promising her father she'll bring Claire home with or without her husband. When Frannie\, the rebellious youngest sister\, is sent along in hopes it will corral her behavior\, the Reilly sisters reunite on the eve of a seismic event that rips Yellowstone apart\, tests their survival\, and exposes the ever-widening rift in their relationship.\n\n\n\nBased on real events of the 1959 Hebgen Lake earthquake and inspired by true stories\, The Fault Between Us is a suspenseful exploration of the bonds of sisterhood\, the depths of family drama\, and how hidden wounds can only heal when they're brought into the light.\n\n\n\nStephanie Landsem writes historical fiction because she loves adventure in far-off times and places. In real life\, shes backpacked through Germany and Eastern Europe\, studied in Salzburg\, enjoyed gelato in Italy\, rode a camel in Morocco\, and floated in the salty Corinthian Sea. Her favorite cities are Rome\, Berlin and Budapest. Her travels kindle her imagination\, fuel her love of history and foreign culture\, and introduce her to one-of-a-kind characters.\n\nStephanie is equally happy at home with her husband of 22 years\, four children\, three fat cats\, and a tortoise named Moe. When shes not writing\, shes feeding the ravenous horde\, volunteering at church and school\, battling dandelions\, and dreaming about her next adventure - whether it be in person or on the page.
X-ALT-DESC;FMTTYPE=text/html:Let&#39\;s welcome author Stephanie Landsem to Hudson in style!&nbsp\;<br />\n<br />\nChapter2 Books is partnering with Lucky Guys Distillary for a book release party for Landsem&#39\;s newest historical novel\, <a href="https://chapter2books.indielite.org/book/9798400502057"><em>The Fault Between Us</em></a>.&nbsp\;<br />\n<br />\n<strong>In this gripping new work of historical fiction from the award-winning author of</strong> <a href="https://chapter2books.indielite.org/book/9781496460677"><em><strong>Code Name Edelweiss</strong></em></a><strong>\, three sisters fight for their lives and for each other amid the danger of a cataclysmic earthquake that rips Yellowstone National Park asunder.</strong><br />\n<br />\n<strong>1959.</strong> Claire\, Bridget\, and Frannie Reilly were once as close as sisters can be. Though their mother left when they were young\, their loving father raised them with everything they could want. But when Claire marries a handsome cowboy and settles out west\, a thousand miles away\, the sisters&rsquo\; strong bond begins to unravel.<br />\n<br />\nClaire struggles to adjust to a life utterly unlike her upbringing\, and surprising revelations about her husband&rsquo\;s past make her wonder if she&rsquo\;s made a terrible mistake. With a new baby and a shoestring budget\, the last thing she needs is her family&rsquo\;s interference.<br />\n<br />\nSensing something isn&rsquo\;t right\, Bridget takes a temporary nursing assignment in Yellowstone\, promising her father she&rsquo\;ll bring Claire home&mdash\;with or without her husband. When Frannie\, the rebellious youngest sister\, is sent along in hopes it will corral her behavior\, the Reilly sisters reunite on the eve of a seismic event that rips Yellowstone apart\, tests their survival\, and exposes the ever-widening rift in their relationship.<br />\n<br />\nBased on real events of the 1959 Hebgen Lake earthquake and inspired by true stories\, <em>The Fault Between Us</em> is a suspenseful exploration of the bonds of sisterhood\, the depths of family drama\, and how hidden wounds can only heal when they&rsquo\;re brought into the light.<br />\n<br />\nStephanie Landsem writes historical fiction because she loves adventure in far-off times and places. In real life\, shes backpacked through Germany and Eastern Europe\, studied in Salzburg\, enjoyed gelato in Italy\, rode a camel in Morocco\, and floated in the salty Corinthian Sea. Her favorite cities are Rome\, Berlin and Budapest. Her travels kindle her imagination\, fuel her love of history and foreign culture\, and introduce her to one-of-a-kind characters.<br />\nStephanie is equally happy at home with her husband of 22 years\, four children\, three fat cats\, and a tortoise named Moe. When shes not writing\, shes feeding the ravenous horde\, volunteering at church and school\, battling dandelions\, and dreaming about her next adventure - whether it be in person or on the page.<br />\n<br />\n&nbsp\;
LOCATION:101 2nd St\, Hudson WI 54016
UID:e.2450.36839
SEQUENCE:3
DTSTAMP:20260420T203948Z
URL:https://members.hudsonwi.org/events/details/book-release-party-the-fault-between-us-by-stephanie-landsem-36839
END:VEVENT

END:VCALENDAR
