BEGIN:VCALENDAR
VERSION:2.0
PRODID:-//ChamberMaster//Event Calendar 2.0//EN
METHOD:PUBLISH
X-PUBLISHED-TTL:P3D
REFRESH-INTERVAL:P3D
CALSCALE:GREGORIAN
BEGIN:VEVENT
DTSTART;VALUE=DATE:20190811
DTEND;VALUE=DATE:20190812
TRANSP:TRANSPARENT
X-MICROSOFT-CDO-ALLDAYEVENT:TRUE
SUMMARY:Ballet Co.Laboratory | Remembering the Little Prince
DESCRIPTION:The acclaimed dance company collaborates with area choreographers and dancers in a stylistically diverse retelling of the fantastical tale of a young prince visiting earth and the many life lessons learned. "One sees clearly only with the heart. Anything essential is invisible to the eyes."
X-ALT-DESC;FMTTYPE=text/html:The acclaimed dance company collaborates with area choreographers and dancers in a stylistically diverse retelling of the fantastical tale of a young prince visiting earth and the many life lessons learned. &ldquo\;One sees clearly only with the heart. Anything essential is invisible to the eyes.&rdquo\;
LOCATION:
UID:e.2450.14480
SEQUENCE:3
DTSTAMP:20260423T180613Z
URL:https://members.hudsonwi.org/events/details/ballet-co-laboratory-remembering-the-little-prince-08-11-2019-14480
END:VEVENT

END:VCALENDAR
