BEGIN:VCALENDAR
VERSION:2.0
PRODID:-//ChamberMaster//Event Calendar 2.0//EN
METHOD:PUBLISH
X-PUBLISHED-TTL:P3D
REFRESH-INTERVAL:P3D
CALSCALE:GREGORIAN
BEGIN:VEVENT
DTSTART:20260913T210000Z
DTEND:20260914T020000Z
X-MICROSOFT-CDO-ALLDAYEVENT:FALSE
SUMMARY:Autumn in the Valley Gala on behalf of Carpenter Nature Center
DESCRIPTION:Join the friends and family of Carpenter Nature Center for an evening of fun for a good cause. It's a memorable dinner\, raffle\, silent and live auction\, and is Carpenter's most important fundraiser of the year. Funds raised from this event directly go towards supporting environmental education programs for youth\, protecting wildlife habitat in both MN and WI\, and providing nature-based recreation opportunities for the community.\n\n\n\nSponsorships available!
X-ALT-DESC;FMTTYPE=text/html:<span style="background-color:rgb(255\, 255\, 255)\; color:rgb(102\, 102\, 102)\; font-family:open sans\,helvetica\,arial\,sans-serif\; font-size:16px">Join the friends and family of Carpenter Nature Center for an evening of fun for a good cause. It&rsquo\;s a memorable dinner\, raffle\, silent and live auction\, and is Carpenter&rsquo\;s most important fundraiser of the year. Funds raised from this event directly go towards supporting environmental education programs for youth\, protecting wildlife habitat in both MN and WI\, and providing nature-based recreation opportunities for the community.<br />\n<br />\nSponsorships available!</span>
LOCATION:Carpenter St. Croix Valley Nature Center Minnesota Campus 12805 St. Croix Trail South Hastings\, MN 55033
UID:e.2450.38185
SEQUENCE:3
DTSTAMP:20260420T223928Z
URL:https://members.hudsonwi.org/events/details/autumn-in-the-valley-gala-on-behalf-of-carpenter-nature-center-09-13-2026-38185
END:VEVENT

END:VCALENDAR
