BEGIN:VCALENDAR
VERSION:2.0
PRODID:-//ChamberMaster//Event Calendar 2.0//EN
METHOD:PUBLISH
X-PUBLISHED-TTL:P3D
REFRESH-INTERVAL:P3D
CALSCALE:GREGORIAN
BEGIN:VEVENT
DTSTART:20260218T230000Z
DTEND:20260219T010000Z
X-MICROSOFT-CDO-ALLDAYEVENT:FALSE
SUMMARY:Audrey Martin Painting Class at Belle Ame
DESCRIPTION:Paint Alpine Bloom. I am offering this class for in person at Belle Ame Vineyard on Feb 18th and 19th from 6:00 pm - 9.00 pm. This painting is on a 6" x 6" gallery wrapped canvas and will be painted using a brush and pallet knife. The fee for the in person class is $50
X-ALT-DESC;FMTTYPE=text/html:<span style="background-color:rgb(17\, 92\, 159)\; color:rgb(225\, 234\, 242)\; font-family:helvetica neue\,helvetica\,arial\,sans-serif\; font-size:16px">Paint Alpine Bloom. I&nbsp\;am offering this class for in person at Belle Ame Vineyard on Feb 18th and 19th from 6:00 pm - 9.00 pm. This painting is on a 6&quot\; x 6&quot\; gallery&nbsp\;wrapped canvas&nbsp\;and will be painted using a brush and pallet knife. The fee for the in person&nbsp\;class is $50&nbsp\;</span>
LOCATION:W10829 875th Avenue\, River Falls\, WI
UID:e.2450.38284
SEQUENCE:3
DTSTAMP:20260420T151244Z
URL:https://members.hudsonwi.org/events/details/audrey-martin-painting-class-at-belle-ame-02-18-2026-38284
END:VEVENT

END:VCALENDAR
