BEGIN:VCALENDAR
VERSION:2.0
PRODID:-//ChamberMaster//Event Calendar 2.0//EN
METHOD:PUBLISH
X-PUBLISHED-TTL:P3D
REFRESH-INTERVAL:P3D
CALSCALE:GREGORIAN
BEGIN:VEVENT
DTSTART:20240527T151500Z
DTEND:20240527T161500Z
X-MICROSOFT-CDO-ALLDAYEVENT:FALSE
SUMMARY:2024 Memorial Day Event at Willow River Cemetery
DESCRIPTION:We hope you'll join us for our annual Memorial Day Event on Monday\, May 27th at Willow River Cemetery in Hudson.\n\n\n\nWe'll have a military veteran speaker and music provided by the Hudson High School Marching Band\, as well as a full Honor Guard.\n\n\n\nHope to see you there!
X-ALT-DESC;FMTTYPE=text/html:We hope you&#39\;ll join us for our annual Memorial Day Event on Monday\, May 27th at Willow River Cemetery in Hudson.<br />\n<br />\nWe&#39\;ll have a military veteran speaker and music provided by the Hudson High School Marching Band\, as well as a full Honor Guard.<br />\n<br />\nHope to see you there!&nbsp\;<br />\n<br />\n&nbsp\;
LOCATION:Willow River Cemetery 815 Wisconsin St Hudson WI 54016
UID:e.2450.30296
SEQUENCE:3
DTSTAMP:20260425T204400Z
URL:https://members.hudsonwi.org/events/details/2024-memorial-day-event-at-willow-river-cemetery-30296
END:VEVENT

END:VCALENDAR
